BEGIN:VCALENDAR
VERSION:2.0
PRODID:-//Sala tennisklubb - ECPv6.15.20//NONSGML v1.0//EN
CALSCALE:GREGORIAN
METHOD:PUBLISH
X-WR-CALNAME:Sala tennisklubb
X-ORIGINAL-URL:https://salatennisklubb.se
X-WR-CALDESC:Händelser för Sala tennisklubb
REFRESH-INTERVAL;VALUE=DURATION:PT1H
X-Robots-Tag:noindex
X-PUBLISHED-TTL:PT1H
BEGIN:VTIMEZONE
TZID:Europe/Stockholm
BEGIN:DAYLIGHT
TZOFFSETFROM:+0100
TZOFFSETTO:+0200
TZNAME:CEST
DTSTART:20230326T010000
END:DAYLIGHT
BEGIN:STANDARD
TZOFFSETFROM:+0200
TZOFFSETTO:+0100
TZNAME:CET
DTSTART:20231029T010000
END:STANDARD
BEGIN:DAYLIGHT
TZOFFSETFROM:+0100
TZOFFSETTO:+0200
TZNAME:CEST
DTSTART:20240331T010000
END:DAYLIGHT
BEGIN:STANDARD
TZOFFSETFROM:+0200
TZOFFSETTO:+0100
TZNAME:CET
DTSTART:20241027T010000
END:STANDARD
BEGIN:DAYLIGHT
TZOFFSETFROM:+0100
TZOFFSETTO:+0200
TZNAME:CEST
DTSTART:20250330T010000
END:DAYLIGHT
BEGIN:STANDARD
TZOFFSETFROM:+0200
TZOFFSETTO:+0100
TZNAME:CET
DTSTART:20251026T010000
END:STANDARD
END:VTIMEZONE
BEGIN:VEVENT
DTSTART;VALUE=DATE:20240714
DTEND;VALUE=DATE:20240715
DTSTAMP:20260420T191851
CREATED:20240524T115604Z
LAST-MODIFIED:20240524T120517Z
UID:727-1720915200-1721001599@salatennisklubb.se
SUMMARY:Wason Cup
DESCRIPTION:  \n7:e upplagan av Wason Cup kommer spelas den 14 Juli.  \nDet blir singelturnering med korta matcher. \nGratis korv och fika kommer finnas för alla på plats. \nFint prisbord sponsrat av Wason. \nAnmälningsavgift 100kr som betalas. \nvid anmälan till 073-708 52 11. \nSista anmälningsdag 10 Juli. \nVid frågor kontakta Leo Wallin tfn:073 708 52 11. \nVarmt välkomna att anmäla er!
URL:https://salatennisklubb.se/event/wason-cup/
LOCATION:Sala Tennisklubb\, Södra Esplanaden 10\, Sala
ATTACH;FMTTYPE=image/png:https://salatennisklubb.se/wp-content/uploads/2024/05/Wason-1600-x-900-px-1.png
END:VEVENT
BEGIN:VEVENT
DTSTART;VALUE=DATE:20240601
DTEND;VALUE=DATE:20240602
DTSTAMP:20260420T191851
CREATED:20240524T121644Z
LAST-MODIFIED:20240527T152434Z
UID:740-1717200000-1717286399@salatennisklubb.se
SUMMARY:Singelserie
DESCRIPTION:Under sommaren så kommer vi ha en singelserie med start 1 juni. \nVarje omgång kommer spelas under 1 månad med 4 spelare i varje grupp. Sedan kommer två flyttas upp och två flyttas ner en division. \nAnmälan sker till Leo Wallin tfn: 073-708 52 11 Sista anmälningsdag för omgång 1 är 26 maj. \nKostnad medlem: 0kr kostnad icke medlem: 300kr \nVarmt välkomna att anmäla er!
URL:https://salatennisklubb.se/event/singelserie/
LOCATION:Sala Tennisklubb\, Södra Esplanaden 10\, Sala
CATEGORIES:Tävlingar
ATTACH;FMTTYPE=image/png:https://salatennisklubb.se/wp-content/uploads/2024/05/Singelserie-1600-x-900-px.png
END:VEVENT
END:VCALENDAR